BEGIN:VCALENDAR
VERSION:2.0
PRODID:spatie/icalendar-generator
DESCRIPTION:Events from HITI ACADEMY BLED HAWKS
X-WR-CALDESC:Events from HITI ACADEMY BLED HAWKS
REFRESH-INTERVAL;VALUE=DURATION:PT1440M
X-PUBLISHED-TTL:PT1440M
BEGIN:VTIMEZONE
TZID:Europe/Zagreb
BEGIN:DAYLIGHT
DTSTART:20240331T020000Z
TZOFFSETFROM:+0100
TZOFFSETTO:+0200
END:DAYLIGHT
BEGIN:STANDARD
DTSTART:20241027T030000Z
TZOFFSETFROM:+0200
TZOFFSETTO:+0100
END:STANDARD
END:VTIMEZONE
BEGIN:VTIMEZONE
TZID:UTC
BEGIN:STANDARD
DTSTART:20250727T124507Z
TZOFFSETFROM:+0000
TZOFFSETTO:+0000
END:STANDARD
END:VTIMEZONE
BEGIN:VEVENT
UID:81-23
DTSTAMP:20260423T124507Z
SUMMARY:Pripravljalna TEKMA U18i
LOCATION:
ORGANIZER;CN=rudiHitiAdmin:MAILTO:goran@aplikacije.hr
DTSTART;TZID=Europe/Zagreb:20240907T140000
DTEND;TZID=Europe/Zagreb:20240907T150000
X-ALT-DESC;FMTTYPE=TEXT/HTML:Pripravljalna TEKMA U18i KAC - HABH Warm up 14
 .00 Game: 14.15 Location: Klagenfurt/Celovec
CATEGORIES:General
URL;VALUE=URI:https://www.rudi-hiti.si/mc-events/pripravljalna-tekma-u18i/?
 mc_id=81
END:VEVENT
END:VCALENDAR